BEGIN:VCALENDAR
VERSION:2.0
PRODID:-//Tukios.com/
BEGIN:VEVENT
UID:4208ad7a-c9c8-4642-b489-80d50acd7865@www.stevensfuneralhome.com
DTSTAMP:20260422T225043Z
DTSTART:20260425T190000Z
DTEND:20260425T200000Z
SUMMARY:Graveside Service
DESCRIPTION:
URL:https://www.stevensfuneralhome.com/obituaries/roy-hoover
LOCATION: 1600 East 9th Street  Coleman TX 76834
GEO:31.8177198;-99.4102776
END:VEVENT
END:VCALENDAR