BEGIN:VCALENDAR
VERSION:2.0
PRODID:-//Tukios.com/
BEGIN:VEVENT
UID:ace26002-8cea-42cd-bd9d-6549718d5091@www.stevensfuneralhome.com
DTSTAMP:20260422T225616Z
DTSTART:20260425T180000Z
DTEND:20260425T190000Z
SUMMARY:Visitation
DESCRIPTION:
URL:https://www.stevensfuneralhome.com/obituaries/roy-hoover
LOCATION: 400 W Pecan St  Coleman TX 76834
GEO:31.8303139;-99.4266011
END:VEVENT
END:VCALENDAR