BEGIN:VCALENDAR
VERSION:2.0
PRODID:-//Tukios.com/
BEGIN:VEVENT
UID:16d90c61-74ad-4965-b615-dc100f37007a@www.stevensfuneralhome.com
DTSTAMP:20260423T020114Z
DTSTART:20260424T180000Z
DTEND:20260424T190000Z
SUMMARY:Graveside Service
DESCRIPTION:
URL:https://www.stevensfuneralhome.com/obituaries/geneva-morton
LOCATION: 1600 East 9th Street  Coleman TX 76834
GEO:31.8177198;-99.4102776
END:VEVENT
END:VCALENDAR